BEGIN:VCALENDAR
VERSION:2.0
PRODID:-//audubon-omaha.org//NONSGML kigkonsult.se iCalcreator 2.30.10//
CALSCALE:GREGORIAN
METHOD:PUBLISH
UID:5849fcb0-c635-4953-a1cc-d0c05e037107
X-WR-CALDESC:**Canceled due to weather**\n\nFor those of you new to Audubon
 \, this group is composed of youth ranging in age from 8 to 19. Younger yo
 uth must be accompanied by an adult. There is no formality or annual time 
 requirement to enjoy this group experience. Drop in\, come give it a try. 
 It’s a fun bonding experience for you and your favorite youth.
X-WR-RELCALID:61cad1cb49bfef6f2ede31ba4168157d
X-WR-TIMEZONE:America/Chicago
BEGIN:VTIMEZONE
TZID:America/Chicago
BEGIN:STANDARD
TZNAME:CST
DTSTART:20171105T020000
TZOFFSETFROM:-0500
TZOFFSETTO:-0600
RDATE:20181104T020000
END:STANDARD
BEGIN:DAYLIGHT
TZNAME:CDT
DTSTART:20170312T020000
TZOFFSETFROM:-0600
TZOFFSETTO:-0500
RDATE:20180311T020000
RDATE:20190310T020000
END:DAYLIGHT
END:VTIMEZONE
BEGIN:VEVENT
UID:ef3e8732-5e3c-483f-aeda-4be5227c182e
DTSTAMP:20260426T032212Z
DESCRIPTION:**Canceled due to weather**\n\nFor those of you new to Audubon\
 , this group is composed of youth ranging in age from 8 to 19. Younger you
 th must be accompanied by an adult. There is no formality or annual time r
 equirement to enjoy this group experience. Drop in\, come give it a try. I
 t’s a fun bonding experience for you and your favorite youth.
DTSTART;TZID=America/Chicago:20180204T151500
DTEND;TZID=America/Chicago:20180204T170000
LOCATION:Check back
SUMMARY:CANCELED DUE TO WEATHER Omaha Youth Birding Group Field Trip
END:VEVENT
END:VCALENDAR
