BEGIN:VCALENDAR
VERSION:2.0
PRODID:-//audubon-omaha.org//NONSGML kigkonsult.se iCalcreator 2.30.10//
CALSCALE:GREGORIAN
METHOD:PUBLISH
UID:17d64e66-7aa3-4f58-a438-763e1c142875
X-WR-CALDESC:Canceled due to weather
X-WR-RELCALID:a0c97a0a0eefe7ecade163a5d285c76d
X-WR-TIMEZONE:America/Chicago
BEGIN:VTIMEZONE
TZID:America/Chicago
BEGIN:STANDARD
TZNAME:CST
DTSTART:20171105T020000
TZOFFSETFROM:-0500
TZOFFSETTO:-0600
RDATE:20181104T020000
END:STANDARD
BEGIN:DAYLIGHT
TZNAME:CDT
DTSTART:20170312T020000
TZOFFSETFROM:-0600
TZOFFSETTO:-0500
RDATE:20180311T020000
RDATE:20190310T020000
END:DAYLIGHT
END:VTIMEZONE
BEGIN:VEVENT
UID:9ffde312-3af4-4a71-a68c-071acd053f62
DTSTAMP:20260426T032550Z
DESCRIPTION:Canceled due to weather
DTSTART;TZID=America/Chicago:20180206T190000
DTEND;TZID=America/Chicago:20180206T210000
LOCATION:Center Street Mall\, 1941 S. 42 St
SUMMARY:Board Meeting - Canceled
END:VEVENT
END:VCALENDAR
