BEGIN:VCALENDAR
VERSION:2.0
PRODID:-//audubon-omaha.org//NONSGML kigkonsult.se iCalcreator 2.30.10//
CALSCALE:GREGORIAN
METHOD:PUBLISH
UID:484a14b3-d497-4f8c-afff-9892cd2656b0
X-WR-CALDESC:Our February program will be led by Suzanne Gucciardo. She wil
 l recount her time spent in the Galapagos Islands searching for birds and 
 other wildlife.\n \nThis event is free and open to the public. We encourag
 e you to bring friends!\n
X-WR-RELCALID:ba9f66792e6623731cfac4764ca12b60
X-WR-TIMEZONE:America/Chicago
BEGIN:VTIMEZONE
TZID:America/Chicago
BEGIN:STANDARD
TZNAME:CST
DTSTART:20171105T020000
TZOFFSETFROM:-0500
TZOFFSETTO:-0600
RDATE:20181104T020000
END:STANDARD
BEGIN:DAYLIGHT
TZNAME:CDT
DTSTART:20170312T020000
TZOFFSETFROM:-0600
TZOFFSETTO:-0500
RDATE:20180311T020000
RDATE:20190310T020000
END:DAYLIGHT
END:VTIMEZONE
BEGIN:VEVENT
UID:4fd948df-bd4e-46a4-81d1-685bfb127529
DTSTAMP:20260426T032459Z
DESCRIPTION:Our February program will be led by Suzanne Gucciardo. She will
  recount her time spent in the Galapagos Islands searching for birds and o
 ther wildlife.\n \nThis event is free and open to the public. We encourage
  you to bring friends!\n
DTSTART;TZID=America/Chicago:20180208T190000
DTEND;TZID=America/Chicago:20180208T210000
LOCATION:Weitz Community Engagement Center on the UNO Dodge Campus
SUMMARY:February Meeting: Galapagos Islands Presentation
END:VEVENT
END:VCALENDAR
