BEGIN:VCALENDAR
VERSION:2.0
PRODID:-//audubon-omaha.org//NONSGML kigkonsult.se iCalcreator 2.30.10//
CALSCALE:GREGORIAN
METHOD:PUBLISH
UID:ca42d0db-b498-45c4-9e51-aba2a55a0e63
X-WR-CALDESC:All work must be delivered directly to the Audubon Society of 
 Omaha Office on Friday\, February 23 - 3pm to 6pm\, or Saturday\, February
  24 - 10am to 3pm. NO ELECTRONIC ENTRIES WILL BE ACCEPTED.
X-WR-RELCALID:0ef1813a164a69d9dacc5b2f98dcf565
X-WR-TIMEZONE:America/Chicago
BEGIN:VTIMEZONE
TZID:America/Chicago
BEGIN:STANDARD
TZNAME:CST
DTSTART:20171105T020000
TZOFFSETFROM:-0500
TZOFFSETTO:-0600
RDATE:20181104T020000
END:STANDARD
BEGIN:DAYLIGHT
TZNAME:CDT
DTSTART:20170312T020000
TZOFFSETFROM:-0600
TZOFFSETTO:-0500
RDATE:20180311T020000
RDATE:20190310T020000
END:DAYLIGHT
END:VTIMEZONE
BEGIN:VEVENT
UID:405af575-48c4-4265-8ae2-29cd0e7dfec0
DTSTAMP:20260426T032459Z
DESCRIPTION:All work must be delivered directly to the Audubon Society of O
 maha Office on Friday\, February 23 - 3pm to 6pm\, or Saturday\, February 
 24 - 10am to 3pm. NO ELECTRONIC ENTRIES WILL BE ACCEPTED.
DTSTART;TZID=America/Chicago:20180223T150000
DTEND;TZID=America/Chicago:20180223T180000
LOCATION:Audubon Society of Omaha Office\, at the Center Mall\, 42nd & Cent
 er
SUMMARY:Deadline for Art Contest Entries
END:VEVENT
END:VCALENDAR
