BEGIN:VCALENDAR
VERSION:2.0
PRODID:-//audubon-omaha.org//NONSGML kigkonsult.se iCalcreator 2.30.10//
CALSCALE:GREGORIAN
METHOD:PUBLISH
UID:220d9023-a8c3-4ec4-8859-d914b88f806e
X-WR-CALDESC:All work must be delivered directly to the Audubon Society of 
 Omaha Office on Friday\, February 23 - 3pm to 6pm\, or Saturday\, February
  24 - 10am to 3pm. NO ELECTRONIC ENTRIES WILL BE ACCEPTED.
X-WR-RELCALID:2e3c8f447cd9e8132c7aeed612166363
X-WR-TIMEZONE:America/Chicago
BEGIN:VTIMEZONE
TZID:America/Chicago
BEGIN:STANDARD
TZNAME:CST
DTSTART:20171105T020000
TZOFFSETFROM:-0500
TZOFFSETTO:-0600
RDATE:20181104T020000
END:STANDARD
BEGIN:DAYLIGHT
TZNAME:CDT
DTSTART:20170312T020000
TZOFFSETFROM:-0600
TZOFFSETTO:-0500
RDATE:20180311T020000
RDATE:20190310T020000
END:DAYLIGHT
END:VTIMEZONE
BEGIN:VEVENT
UID:c5da35a4-05cd-4f60-ac22-6ad895413916
DTSTAMP:20260426T032207Z
DESCRIPTION:All work must be delivered directly to the Audubon Society of O
 maha Office on Friday\, February 23 - 3pm to 6pm\, or Saturday\, February 
 24 - 10am to 3pm. NO ELECTRONIC ENTRIES WILL BE ACCEPTED.
DTSTART;TZID=America/Chicago:20180224T100000
DTEND;TZID=America/Chicago:20180224T150000
LOCATION:Audubon Society of Omaha Office\, at the Center Mall\, 42nd & Cent
 er
SUMMARY:Deadline for Art Contest Entries
END:VEVENT
END:VCALENDAR
