BEGIN:VCALENDAR
VERSION:2.0
PRODID:-//audubon-omaha.org//NONSGML kigkonsult.se iCalcreator 2.30.10//
CALSCALE:GREGORIAN
METHOD:PUBLISH
UID:0e03f1f3-d7fd-4126-b64c-89a9dc9b5fb5
X-WR-CALDESC:Rick Wright\, a native of southeast Nebraska\, will be the spe
 cial speaker this year. Rick has lived and worked in many different places
  in the United States as a professor at the University of Illinois\, Princ
 eton University\, and Fordham University. Rick’s talk will be celebrating 
 John James Audubon’s voyage up the Missouri River 175 years ago. What were
  Audubon’s accomplishments on this expedition as he traveled past modern-d
 ay Bellevue? \n\nThis event is free and open to the public. Sponsored by A
 SO and Fontenelle Forest. A copy of John James Audubon’s book “The Birds o
 f America” will be won by one lucky person.
X-WR-RELCALID:c6453ffc9d51a4142c06d52f13b1549b
X-WR-TIMEZONE:America/Chicago
BEGIN:VTIMEZONE
TZID:America/Chicago
BEGIN:STANDARD
TZNAME:CST
DTSTART:20171105T020000
TZOFFSETFROM:-0500
TZOFFSETTO:-0600
RDATE:20181104T020000
END:STANDARD
BEGIN:DAYLIGHT
TZNAME:CDT
DTSTART:20180311T020000
TZOFFSETFROM:-0600
TZOFFSETTO:-0500
RDATE:20190310T020000
END:DAYLIGHT
END:VTIMEZONE
BEGIN:VEVENT
UID:c83fce0a-575e-4bca-8218-8d66cf0fa890
DTSTAMP:20260426T014525Z
DESCRIPTION:Rick Wright\, a native of southeast Nebraska\, will be the spec
 ial speaker this year. Rick has lived and worked in many different places 
 in the United States as a professor at the University of Illinois\, Prince
 ton University\, and Fordham University. Rick’s talk will be celebrating J
 ohn James Audubon’s voyage up the Missouri River 175 years ago. What were 
 Audubon’s accomplishments on this expedition as he traveled past modern-da
 y Bellevue? \n\nThis event is free and open to the public. Sponsored by AS
 O and Fontenelle Forest. A copy of John James Audubon’s book “The Birds of
  America” will be won by one lucky person.
DTSTART;TZID=America/Chicago:20180317T190000
DTEND;TZID=America/Chicago:20180317T210000
LOCATION:Fontenelle Forest - 1111 Fontenelle Blvd N.
SUMMARY:Special Speaker - Save the Date!
END:VEVENT
END:VCALENDAR
