BEGIN:VCALENDAR
VERSION:2.0
PRODID:-//audubon-omaha.org//NONSGML kigkonsult.se iCalcreator 2.30.10//
CALSCALE:GREGORIAN
METHOD:PUBLISH
UID:bc114894-d39c-4ca8-87a0-43cf0adeabe0
X-WR-CALDESC:
X-WR-RELCALID:55896f78553a0b8ec20d50214a232af5
X-WR-TIMEZONE:America/Chicago
BEGIN:VTIMEZONE
TZID:America/Chicago
BEGIN:STANDARD
TZNAME:CST
DTSTART:20171105T020000
TZOFFSETFROM:-0500
TZOFFSETTO:-0600
RDATE:20181104T020000
END:STANDARD
BEGIN:DAYLIGHT
TZNAME:CDT
DTSTART:20180311T020000
TZOFFSETFROM:-0600
TZOFFSETTO:-0500
RDATE:20190310T020000
END:DAYLIGHT
END:VTIMEZONE
BEGIN:VEVENT
UID:d1f2f6d8-9490-437c-bbc0-d8f2fb402cb9
DTSTAMP:20260426T014620Z
DESCRIPTION:
DTSTART;TZID=America/Chicago:20180325T114500
DTEND;TZID=America/Chicago:20180325T131500
LOCATION:Check back
SUMMARY:Youth and Family Birding Field Trip
END:VEVENT
END:VCALENDAR
