BEGIN:VCALENDAR
VERSION:2.0
PRODID:-//audubon-omaha.org//NONSGML kigkonsult.se iCalcreator 2.30.10//
CALSCALE:GREGORIAN
METHOD:PUBLISH
UID:939c5729-2e09-4f31-a94c-60406e54b017
X-WR-CALDESC:On April 12th we will be joined by wildlife photographer Ethan
  Freese as he discusses his current project - Saline Wetlands: Beyond the 
 Beetle. This project is focused on showing the diverse assemblage of resid
 ent and migratory species that rely on saline wetlands beyond the Salt Cre
 ek tiger beetle. \n\nWhile the tiger beetles are an important indicator sp
 ecies for this unique ecosystem\, there are hundreds of other species that
  call these wetlands home. \n\nThe meeting will be held at 7pm in the UNO 
 Weitz Community Engagement Center (map for parking is below). Meetings are
  FREE and open to the general public\, so feel free to bring some friends.
X-WR-RELCALID:cf8b18d575bd33523f026f5244ca6715
X-WR-TIMEZONE:America/Chicago
BEGIN:VTIMEZONE
TZID:America/Chicago
BEGIN:STANDARD
TZNAME:CST
DTSTART:20171105T020000
TZOFFSETFROM:-0500
TZOFFSETTO:-0600
RDATE:20181104T020000
END:STANDARD
BEGIN:DAYLIGHT
TZNAME:CDT
DTSTART:20180311T020000
TZOFFSETFROM:-0600
TZOFFSETTO:-0500
RDATE:20190310T020000
END:DAYLIGHT
END:VTIMEZONE
BEGIN:VEVENT
UID:b95d9718-8153-49ce-a0d5-ae18c69bc3f9
DTSTAMP:20260426T001522Z
DESCRIPTION:On April 12th we will be joined by wildlife photographer Ethan 
 Freese as he discusses his current project - Saline Wetlands: Beyond the B
 eetle. This project is focused on showing the diverse assemblage of reside
 nt and migratory species that rely on saline wetlands beyond the Salt Cree
 k tiger beetle. \n\nWhile the tiger beetles are an important indicator spe
 cies for this unique ecosystem\, there are hundreds of other species that 
 call these wetlands home. \n\nThe meeting will be held at 7pm in the UNO W
 eitz Community Engagement Center (map for parking is below). Meetings are 
 FREE and open to the general public\, so feel free to bring some friends.
DTSTART;TZID=America/Chicago:20180412T190000
DTEND;TZID=America/Chicago:20180412T210000
LOCATION:Weitz Community Engagement Center on the UNO Dodge Campus
SUMMARY:April Meeting - Saline Wetlands: Beyond the Beetle
END:VEVENT
END:VCALENDAR
