BEGIN:VCALENDAR
VERSION:2.0
PRODID:-//audubon-omaha.org//NONSGML kigkonsult.se iCalcreator 2.30.10//
CALSCALE:GREGORIAN
METHOD:PUBLISH
UID:d3ab955b-0673-4352-a0a7-f9f6add254f6
X-WR-CALDESC:This is part 2 of the bird identification class. For more deta
 ils about the class\, please see the full description on March 10.
X-WR-RELCALID:efdef690df73aad1711444c7a78ccc46
X-WR-TIMEZONE:America/Chicago
BEGIN:VTIMEZONE
TZID:America/Chicago
BEGIN:STANDARD
TZNAME:CST
DTSTART:20171105T020000
TZOFFSETFROM:-0500
TZOFFSETTO:-0600
RDATE:20181104T020000
END:STANDARD
BEGIN:DAYLIGHT
TZNAME:CDT
DTSTART:20180311T020000
TZOFFSETFROM:-0600
TZOFFSETTO:-0500
RDATE:20190310T020000
END:DAYLIGHT
END:VTIMEZONE
BEGIN:VEVENT
UID:740c4315-027e-48e7-b39c-a7a1ea1a031d
DTSTAMP:20260426T001045Z
DESCRIPTION:This is part 2 of the bird identification class. For more detai
 ls about the class\, please see the full description on March 10.
DTSTART;TZID=America/Chicago:20180414T080000
DTEND;TZID=America/Chicago:20180414T120000
LOCATION:Wetland Learning Center
SUMMARY:Bird Identification Class: Part 2
END:VEVENT
END:VCALENDAR
