BEGIN:VCALENDAR
VERSION:2.0
PRODID:-//audubon-omaha.org//NONSGML kigkonsult.se iCalcreator 2.30.10//
CALSCALE:GREGORIAN
METHOD:PUBLISH
UID:1c359357-5e1c-47b6-bae4-76f9ea464553
X-WR-CALDESC:The Audubon Society of Omaha is pleased to sponsor its annual 
 student art contest and show. The goal of this contest is to expose young 
 people to birds and promote the importance of wildlife in our community. I
 t is our hope that young people will recognize the birds they draw and fos
 ter an enjoyment of nature.\n\nArtwork of all students entering the contes
 t (grades K through 12) will be on display from 12:00 noon until 3:30 pm t
 hat day. The awards ceremony will start at 2:00 pm. This event is free and
  open to the public.
X-WR-RELCALID:579676916264429dafc2c05670121eee
X-WR-TIMEZONE:America/Chicago
BEGIN:VTIMEZONE
TZID:America/Chicago
BEGIN:STANDARD
TZNAME:CST
DTSTART:20171105T020000
TZOFFSETFROM:-0500
TZOFFSETTO:-0600
RDATE:20181104T020000
END:STANDARD
BEGIN:DAYLIGHT
TZNAME:CDT
DTSTART:20180311T020000
TZOFFSETFROM:-0600
TZOFFSETTO:-0500
RDATE:20190310T020000
END:DAYLIGHT
END:VTIMEZONE
BEGIN:VEVENT
UID:5505f1be-615f-42ca-b7f2-0d5780732d17
DTSTAMP:20260426T001602Z
DESCRIPTION:The Audubon Society of Omaha is pleased to sponsor its annual s
 tudent art contest and show. The goal of this contest is to expose young p
 eople to birds and promote the importance of wildlife in our community. It
  is our hope that young people will recognize the birds they draw and fost
 er an enjoyment of nature.\n\nArtwork of all students entering the contest
  (grades K through 12) will be on display from 12:00 noon until 3:30 pm th
 at day. The awards ceremony will start at 2:00 pm. This event is free and 
 open to the public.
DTSTART;TZID=America/Chicago:20180414T120000
DTEND;TZID=America/Chicago:20180414T153000
LOCATION:The John Muller Administration Building on the Bellevue University
  Campus
SUMMARY:Student Art Show 2018
END:VEVENT
END:VCALENDAR
