BEGIN:VCALENDAR
VERSION:2.0
PRODID:-//audubon-omaha.org//NONSGML kigkonsult.se iCalcreator 2.30.10//
CALSCALE:GREGORIAN
METHOD:PUBLISH
UID:5826074e-38a8-470d-a8c3-550ce78ab51b
X-WR-CALDESC:For those of you new to Audubon\, this group is composed of yo
 uth ranging in age from 8 to 19. Younger youth must be accompanied by an a
 dult. There is no formality or annual time requirement to enjoy this group
  experience. Drop in\, come give it a try. It’s a fun bonding experience f
 or you and your favorite youth.
X-WR-RELCALID:75577e501d9a9f15c3aa51d5cfe94a64
X-WR-TIMEZONE:America/Chicago
BEGIN:VTIMEZONE
TZID:America/Chicago
BEGIN:STANDARD
TZNAME:CST
DTSTART:20171105T020000
TZOFFSETFROM:-0500
TZOFFSETTO:-0600
RDATE:20181104T020000
END:STANDARD
BEGIN:DAYLIGHT
TZNAME:CDT
DTSTART:20180311T020000
TZOFFSETFROM:-0600
TZOFFSETTO:-0500
RDATE:20190310T020000
END:DAYLIGHT
END:VTIMEZONE
BEGIN:VEVENT
UID:96e37fcf-92a2-494a-a86d-20c77b6ad6a8
DTSTAMP:20260426T002636Z
DESCRIPTION:For those of you new to Audubon\, this group is composed of you
 th ranging in age from 8 to 19. Younger youth must be accompanied by an ad
 ult. There is no formality or annual time requirement to enjoy this group 
 experience. Drop in\, come give it a try. It’s a fun bonding experience fo
 r you and your favorite youth.
DTSTART;TZID=America/Chicago:20180428T093000
DTEND;TZID=America/Chicago:20180428T110000
LOCATION:NW parking lot on 168th\, Lake Zorinsky
SUMMARY:Omaha Youth Birding Group Field Trip
END:VEVENT
END:VCALENDAR
