BEGIN:VCALENDAR
VERSION:2.0
PRODID:-//audubon-omaha.org//NONSGML kigkonsult.se iCalcreator 2.30.10//
CALSCALE:GREGORIAN
METHOD:PUBLISH
UID:9417e725-4bf3-42b3-9920-16c35dac8469
X-WR-CALDESC:For those of you new to Audubon\, this group is composed of yo
 uth ranging in age from 8 to 19. Younger youth must be accompanied by an a
 dult. There is no formality or annual time requirement to enjoy this group
  experience. Drop in\, come give it a try. It’s a fun bonding experience f
 or you and your favorite youth.
X-WR-RELCALID:3aa35c3deff42ae0cff6c56b710c2f93
X-WR-TIMEZONE:America/Chicago
BEGIN:VTIMEZONE
TZID:America/Chicago
BEGIN:STANDARD
TZNAME:CST
DTSTART:20171105T020000
TZOFFSETFROM:-0500
TZOFFSETTO:-0600
RDATE:20181104T020000
END:STANDARD
BEGIN:DAYLIGHT
TZNAME:CDT
DTSTART:20180311T020000
TZOFFSETFROM:-0600
TZOFFSETTO:-0500
RDATE:20190310T020000
END:DAYLIGHT
END:VTIMEZONE
BEGIN:VEVENT
UID:50cca946-1f4d-4d90-b692-ac3589cb1a19
DTSTAMP:20260426T001217Z
DESCRIPTION:For those of you new to Audubon\, this group is composed of you
 th ranging in age from 8 to 19. Younger youth must be accompanied by an ad
 ult. There is no formality or annual time requirement to enjoy this group 
 experience. Drop in\, come give it a try. It’s a fun bonding experience fo
 r you and your favorite youth.
DTSTART;TZID=America/Chicago:20180429T153000
DTEND;TZID=America/Chicago:20180429T170000
LOCATION:ALERT now at Wehrspann mitigation pond head W from I-80 and 370 in
 terchange about 1/10 mile Turn LEFT gravel parking lot.  402-885-0990
SUMMARY:ALERT READ Youth Birding Group Field Trip
END:VEVENT
END:VCALENDAR
