BEGIN:VCALENDAR
VERSION:2.0
PRODID:-//audubon-omaha.org//NONSGML kigkonsult.se iCalcreator 2.30.10//
CALSCALE:GREGORIAN
METHOD:PUBLISH
UID:ea8dfa0d-679b-48d7-9337-00c15d5eb5be
X-WR-CALDESC:Check out this NEW location! First\, bird with our group\, the
 n decide whether or not you’d like to take a guided tour of the Castle. To
 ur begins at 3pm\, $8-$10/ person. Park at the Davenport St. entrance park
 ing lot.\n\nFor those of you new to Audubon\, this group is composed of yo
 uth ranging in age from 8 to 19. Younger youth must be accompanied by an a
 dult. There is no formality or annual time requirement to enjoy this group
  experience. Drop in\, come give it a try. It’s a fun bonding experience f
 or you and your favorite youth.
X-WR-RELCALID:a63791b5955e0c9aafb5ff24fc818185
X-WR-TIMEZONE:America/Chicago
BEGIN:VTIMEZONE
TZID:America/Chicago
BEGIN:STANDARD
TZNAME:CST
DTSTART:20171105T020000
TZOFFSETFROM:-0500
TZOFFSETTO:-0600
RDATE:20181104T020000
RDATE:20191103T020000
END:STANDARD
BEGIN:DAYLIGHT
TZNAME:CDT
DTSTART:20180311T020000
TZOFFSETFROM:-0600
TZOFFSETTO:-0500
RDATE:20190310T020000
END:DAYLIGHT
END:VTIMEZONE
BEGIN:VEVENT
UID:2555acc4-7e83-4e30-8311-bbc2148b4a7b
DTSTAMP:20260425T223703Z
DESCRIPTION:Check out this NEW location! First\, bird with our group\, then
  decide whether or not you’d like to take a guided tour of the Castle. Tou
 r begins at 3pm\, $8-$10/ person. Park at the Davenport St. entrance parki
 ng lot.\n\nFor those of you new to Audubon\, this group is composed of you
 th ranging in age from 8 to 19. Younger youth must be accompanied by an ad
 ult. There is no formality or annual time requirement to enjoy this group 
 experience. Drop in\, come give it a try. It’s a fun bonding experience fo
 r you and your favorite youth.
DTSTART;TZID=America/Chicago:20180506T140000
DTEND;TZID=America/Chicago:20180506T150000
LOCATION:Joslyn Castle property
SUMMARY:Youth Birding Field Trip Joslyn Castle
END:VEVENT
END:VCALENDAR
