BEGIN:VCALENDAR
VERSION:2.0
PRODID:-//audubon-omaha.org//NONSGML kigkonsult.se iCalcreator 2.30.10//
CALSCALE:GREGORIAN
METHOD:PUBLISH
UID:3fd49165-cba1-40f2-a30b-ad0e8a02a7f1
X-WR-CALDESC:The Annual Sarpy County Spring Bird Count will be held on Satu
 rday May 12th.  The county is divided into four (4) sections from Fontenel
 le Forest on the Missouri River in the east to the Platte River in the wes
 t in the Linoma Beach area.  In between are two sections including Schramm
  Park SRA\, Walnut Creek Lake Recreation Area\, and Prairie Queen Recreati
 on Area.  Counters will be needed and any help is appreciated.  If you are
  interested in helping out all day or part of the day contact Clem Klaphak
 e.
X-WR-RELCALID:ce40bf032c91da10eff9cdd8d366fc38
X-WR-TIMEZONE:America/Chicago
BEGIN:VTIMEZONE
TZID:America/Chicago
BEGIN:STANDARD
TZNAME:CST
DTSTART:20171105T020000
TZOFFSETFROM:-0500
TZOFFSETTO:-0600
RDATE:20181104T020000
RDATE:20191103T020000
END:STANDARD
BEGIN:DAYLIGHT
TZNAME:CDT
DTSTART:20180311T020000
TZOFFSETFROM:-0600
TZOFFSETTO:-0500
RDATE:20190310T020000
END:DAYLIGHT
END:VTIMEZONE
BEGIN:VEVENT
UID:a7dc4b37-4dd9-48f0-8e24-31b096839f7a
DTSTAMP:20260425T224210Z
DESCRIPTION:The Annual Sarpy County Spring Bird Count will be held on Satur
 day May 12th.  The county is divided into four (4) sections from Fontenell
 e Forest on the Missouri River in the east to the Platte River in the west
  in the Linoma Beach area.  In between are two sections including Schramm 
 Park SRA\, Walnut Creek Lake Recreation Area\, and Prairie Queen Recreatio
 n Area.  Counters will be needed and any help is appreciated.  If you are 
 interested in helping out all day or part of the day contact Clem Klaphake
 .
DTSTART;TZID=America/Chicago:20180512T000000
DTEND;TZID=America/Chicago:20180512T235900
LOCATION:Various
SUMMARY:The Annual Sarpy County Spring Bird Count
END:VEVENT
END:VCALENDAR
