BEGIN:VCALENDAR
VERSION:2.0
PRODID:-//audubon-omaha.org//NONSGML kigkonsult.se iCalcreator 2.30.10//
CALSCALE:GREGORIAN
METHOD:PUBLISH
UID:dfa9d00e-26fc-4169-9cf3-ff57b0740f2c
X-WR-CALDESC:First a short presentation on Kestrels by our very talented Bo
 b Wells\, then the outdoor birding experience will take us throughout Hero
 n Haven\, one of Douglas County’s best urban birding hotspots. Owls migrat
 e too\, so we’ll celebrate spring migration by dissecting owl pellets. Gro
 ss\, but so very fun. (This is a good location to look at a map first. Whe
 n turning off 120th\, just past the Maple intersection you’ll make a very 
 quick right\, be ready.)\n\nFor those of you new to Audubon\, this group i
 s composed of youth ranging in age from 8 to 19. Younger youth must be acc
 ompanied by an adult. There is no formality or annual time requirement to 
 enjoy this group experience. Drop in\, come give it a try. It’s a fun bond
 ing experience for you and your favorite youth.
X-WR-RELCALID:a6016ee2179d56c3207e54e85fcf06cf
X-WR-TIMEZONE:America/Chicago
BEGIN:VTIMEZONE
TZID:America/Chicago
BEGIN:STANDARD
TZNAME:CST
DTSTART:20171105T020000
TZOFFSETFROM:-0500
TZOFFSETTO:-0600
RDATE:20181104T020000
RDATE:20191103T020000
END:STANDARD
BEGIN:DAYLIGHT
TZNAME:CDT
DTSTART:20180311T020000
TZOFFSETFROM:-0600
TZOFFSETTO:-0500
RDATE:20190310T020000
END:DAYLIGHT
END:VTIMEZONE
BEGIN:VEVENT
UID:4f6812b2-f41d-4d19-ab79-1510908d0387
DTSTAMP:20260425T224256Z
DESCRIPTION:First a short presentation on Kestrels by our very talented Bob
  Wells\, then the outdoor birding experience will take us throughout Heron
  Haven\, one of Douglas County’s best urban birding hotspots. Owls migrate
  too\, so we’ll celebrate spring migration by dissecting owl pellets. Gros
 s\, but so very fun. (This is a good location to look at a map first. When
  turning off 120th\, just past the Maple intersection you’ll make a very q
 uick right\, be ready.)\n\nFor those of you new to Audubon\, this group is
  composed of youth ranging in age from 8 to 19. Younger youth must be acco
 mpanied by an adult. There is no formality or annual time requirement to e
 njoy this group experience. Drop in\, come give it a try. It’s a fun bondi
 ng experience for you and your favorite youth.
DTSTART;TZID=America/Chicago:20180512T100000
DTEND;TZID=America/Chicago:20180512T113000
LOCATION:Heron Haven
SUMMARY:Youth Birding Heron Haven\, Kestrel talk
END:VEVENT
END:VCALENDAR
