BEGIN:VCALENDAR
VERSION:2.0
PRODID:-//audubon-omaha.org//NONSGML kigkonsult.se iCalcreator 2.30.10//
CALSCALE:GREGORIAN
METHOD:PUBLISH
UID:1045128d-5941-4a15-b098-45880d98693a
X-WR-CALDESC:To further accomplish our society’s mission\, we are raising $
 4\,000 to help offset the initial costs of our new educational bird progra
 ms. Programs will explore topics such as differentiating birds from other 
 animals\, a bird’s life (egg\, incubation\, growth\, molt\, migration)\, p
 hysical adaptations of birds\, etc.  Please consider a donation during Oma
 ha Gives! on May 23 to help us buy the resources needed!
X-WR-RELCALID:78fbdbbb5739dd3af332116367e63aaf
X-WR-TIMEZONE:America/Chicago
BEGIN:VTIMEZONE
TZID:America/Chicago
BEGIN:STANDARD
TZNAME:CST
DTSTART:20171105T020000
TZOFFSETFROM:-0500
TZOFFSETTO:-0600
RDATE:20181104T020000
RDATE:20191103T020000
END:STANDARD
BEGIN:DAYLIGHT
TZNAME:CDT
DTSTART:20180311T020000
TZOFFSETFROM:-0600
TZOFFSETTO:-0500
RDATE:20190310T020000
END:DAYLIGHT
END:VTIMEZONE
BEGIN:VEVENT
UID:3604e231-2fcb-4788-87aa-712d7b103502
DTSTAMP:20260425T224048Z
DESCRIPTION:To further accomplish our society’s mission\, we are raising $4
 \,000 to help offset the initial costs of our new educational bird program
 s. Programs will explore topics such as differentiating birds from other a
 nimals\, a bird’s life (egg\, incubation\, growth\, molt\, migration)\, ph
 ysical adaptations of birds\, etc.  Please consider a donation during Omah
 a Gives! on May 23 to help us buy the resources needed!
DTSTART;TZID=America/Chicago:20180523T000000
DTEND;TZID=America/Chicago:20180523T235900
LOCATION:
SUMMARY:Omaha Gives!
END:VEVENT
END:VCALENDAR
