BEGIN:VCALENDAR
VERSION:2.0
PRODID:-//audubon-omaha.org//NONSGML kigkonsult.se iCalcreator 2.30.10//
CALSCALE:GREGORIAN
METHOD:PUBLISH
UID:a6a7ac0b-20c1-41f4-a662-85b40e9d1c77
X-WR-CALDESC:Join us on a joint birding trip with Iowa Young Birders\, hopi
 ng to catch the end of spring migration. Through both upland forest and we
 tland habitats\, our two birding groups are sure to have some fantastic si
 ghtings. Without a membership\, entry is $7.50-$9.50/person. Park at main 
 Nature Center entrance\, 1111 Bellevue Blvd. (Possibility for group pricin
 g if 12 non-members attend.)\n\nFor those of you new to Audubon\, this gro
 up is composed of youth ranging in age from 8 to 19. Younger youth must be
  accompanied by an adult. There is no formality or annual time requirement
  to enjoy this group experience. Drop in\, come give it a try. It’s a fun 
 bonding experience for you and your favorite youth.
X-WR-RELCALID:437dcff3721533aba7a2f5c281329ece
X-WR-TIMEZONE:America/Chicago
BEGIN:VTIMEZONE
TZID:America/Chicago
BEGIN:STANDARD
TZNAME:CST
DTSTART:20171105T020000
TZOFFSETFROM:-0500
TZOFFSETTO:-0600
RDATE:20181104T020000
RDATE:20191103T020000
END:STANDARD
BEGIN:DAYLIGHT
TZNAME:CDT
DTSTART:20180311T020000
TZOFFSETFROM:-0600
TZOFFSETTO:-0500
RDATE:20190310T020000
END:DAYLIGHT
END:VTIMEZONE
BEGIN:VEVENT
UID:27b6af3a-41eb-40a1-b4a2-e16039d129e5
DTSTAMP:20260425T211633Z
DESCRIPTION:Join us on a joint birding trip with Iowa Young Birders\, hopin
 g to catch the end of spring migration. Through both upland forest and wet
 land habitats\, our two birding groups are sure to have some fantastic sig
 htings. Without a membership\, entry is $7.50-$9.50/person. Park at main N
 ature Center entrance\, 1111 Bellevue Blvd. (Possibility for group pricing
  if 12 non-members attend.)\n\nFor those of you new to Audubon\, this grou
 p is composed of youth ranging in age from 8 to 19. Younger youth must be 
 accompanied by an adult. There is no formality or annual time requirement 
 to enjoy this group experience. Drop in\, come give it a try. It’s a fun b
 onding experience for you and your favorite youth.
DTSTART;TZID=America/Chicago:20180602T090000
DTEND;TZID=America/Chicago:20180602T120000
LOCATION:Fontenelle Forest
SUMMARY:Omaha Youth Birding Group Field Trip
END:VEVENT
END:VCALENDAR
