BEGIN:VCALENDAR
VERSION:2.0
PRODID:-//audubon-omaha.org//NONSGML kigkonsult.se iCalcreator 2.30.10//
CALSCALE:GREGORIAN
METHOD:PUBLISH
UID:932199f1-7d02-4016-831a-7f811009fcf1
X-WR-CALDESC:Flat and marsh-like
X-WR-RELCALID:0f08b26ca3e60fa718d3835bae36b7d9
X-WR-TIMEZONE:America/Chicago
BEGIN:VTIMEZONE
TZID:America/Chicago
BEGIN:STANDARD
TZNAME:CST
DTSTART:20171105T020000
TZOFFSETFROM:-0500
TZOFFSETTO:-0600
RDATE:20181104T020000
RDATE:20191103T020000
END:STANDARD
BEGIN:DAYLIGHT
TZNAME:CDT
DTSTART:20180311T020000
TZOFFSETFROM:-0600
TZOFFSETTO:-0500
RDATE:20190310T020000
END:DAYLIGHT
END:VTIMEZONE
BEGIN:VEVENT
UID:7d2b9459-555e-42cf-b6b5-f951859e2772
DTSTAMP:20260425T181749Z
DESCRIPTION:Flat and marsh-like
DTSTART;TZID=America/Chicago:20180825T153000
DTEND;TZID=America/Chicago:20180825T170000
LOCATION:La Platte Bottoms
SUMMARY:Youth Family Birding Field Trip
END:VEVENT
END:VCALENDAR
