BEGIN:VCALENDAR
VERSION:2.0
PRODID:-//audubon-omaha.org//NONSGML kigkonsult.se iCalcreator 2.30.10//
CALSCALE:GREGORIAN
METHOD:PUBLISH
UID:92f01c54-cdfa-4481-a0e5-f84fd26d9c85
X-WR-CALDESC:Join us on a field trip to Waubonsie WMA\, Waubonsie State Par
 k\, Riverton WMA in southwest IA. These locations are about an hour away f
 rom Omaha. Field trip will be mostly driving with some walking at Waubonsi
 e State Park. Focus will be on migrating passerines and shorebirds.\n\nWe 
 will meet in the Center Mall (42nd and Center) parking garage (lower level
 ) right outside the ASO office at 6:45am and leave promptly at 7:00am. We 
 will return to the ASO office around 6:00pm. We will stop to buy lunch\, b
 ut participants may also bring a lunch if they prefer.\n
X-WR-RELCALID:56acae15bd3cb6a20640f2ddb139000e
X-WR-TIMEZONE:America/Chicago
BEGIN:VTIMEZONE
TZID:America/Chicago
BEGIN:STANDARD
TZNAME:CST
DTSTART:20171105T020000
TZOFFSETFROM:-0500
TZOFFSETTO:-0600
RDATE:20181104T020000
RDATE:20191103T020000
END:STANDARD
BEGIN:DAYLIGHT
TZNAME:CDT
DTSTART:20180311T020000
TZOFFSETFROM:-0600
TZOFFSETTO:-0500
RDATE:20190310T020000
RDATE:20200308T020000
END:DAYLIGHT
END:VTIMEZONE
BEGIN:VEVENT
UID:64b8edf2-d0de-45ab-a62a-566471fbc3f3
DTSTAMP:20260425T163827Z
DESCRIPTION:Join us on a field trip to Waubonsie WMA\, Waubonsie State Park
 \, Riverton WMA in southwest IA. These locations are about an hour away fr
 om Omaha. Field trip will be mostly driving with some walking at Waubonsie
  State Park. Focus will be on migrating passerines and shorebirds.\n\nWe w
 ill meet in the Center Mall (42nd and Center) parking garage (lower level)
  right outside the ASO office at 6:45am and leave promptly at 7:00am. We w
 ill return to the ASO office around 6:00pm. We will stop to buy lunch\, bu
 t participants may also bring a lunch if they prefer.\n
DTSTART;TZID=America/Chicago:20180908T063000
DTEND;TZID=America/Chicago:20180908T180000
LOCATION:Meet in the Center Mall parking garage right outside the ASO offic
 e at 6:45am
SUMMARY:Field Trip to Southwest Iowa
END:VEVENT
END:VCALENDAR
