BEGIN:VCALENDAR
VERSION:2.0
PRODID:-//audubon-omaha.org//NONSGML kigkonsult.se iCalcreator 2.30.10//
CALSCALE:GREGORIAN
METHOD:PUBLISH
UID:b01f9528-a317-4201-879d-3d3c0ac3555d
X-WR-CALDESC:Join us on Thursday\, September 13 for a presentation by Rick 
 Schmid about birds that take a lot of patience to accurately identify: spa
 rrows. The meeting will be in preparation for ASO’s upcoming field trip on
  October 20\, which will focus on finding and learning how to identify spa
 rrows.\n \nThe meeting will be held at the UNO Dodge Campus in the Weitz C
 ommunity Engagement Center\, room 127 at 7pm. This is a free public event\
 , so feel free to invite friends. \n\nPhoto credit: House Sparrow by Mike 
 Benkis\n
X-WR-RELCALID:ff751dc63062c417f916e88abf30e1d6
X-WR-TIMEZONE:America/Chicago
BEGIN:VTIMEZONE
TZID:America/Chicago
BEGIN:STANDARD
TZNAME:CST
DTSTART:20171105T020000
TZOFFSETFROM:-0500
TZOFFSETTO:-0600
RDATE:20181104T020000
RDATE:20191103T020000
END:STANDARD
BEGIN:DAYLIGHT
TZNAME:CDT
DTSTART:20180311T020000
TZOFFSETFROM:-0600
TZOFFSETTO:-0500
RDATE:20190310T020000
RDATE:20200308T020000
END:DAYLIGHT
END:VTIMEZONE
BEGIN:VEVENT
UID:b5a7a952-51e5-4455-8c65-15acccc729fd
DTSTAMP:20260425T164719Z
DESCRIPTION:Join us on Thursday\, September 13 for a presentation by Rick S
 chmid about birds that take a lot of patience to accurately identify: spar
 rows. The meeting will be in preparation for ASO’s upcoming field trip on 
 October 20\, which will focus on finding and learning how to identify spar
 rows.\n \nThe meeting will be held at the UNO Dodge Campus in the Weitz Co
 mmunity Engagement Center\, room 127 at 7pm. This is a free public event\,
  so feel free to invite friends. \n\nPhoto credit: House Sparrow by Mike B
 enkis\n
DTSTART;TZID=America/Chicago:20180913T190000
DTEND;TZID=America/Chicago:20180913T210000
LOCATION:Weitz Community Engagement Center (room 127) on the UNO Dodge Camp
 us
SUMMARY:General Meeting: Sparrows
END:VEVENT
END:VCALENDAR
