BEGIN:VCALENDAR
VERSION:2.0
PRODID:-//audubon-omaha.org//NONSGML kigkonsult.se iCalcreator 2.30.10//
CALSCALE:GREGORIAN
METHOD:PUBLISH
UID:07c9e054-6f3c-400f-ba2e-684eb8d044c8
X-WR-CALDESC:Bird seed sale orders are due today.
X-WR-RELCALID:889e0d8aaf0750ded23ea557f67db72d
X-WR-TIMEZONE:America/Chicago
BEGIN:VTIMEZONE
TZID:America/Chicago
BEGIN:STANDARD
TZNAME:CST
DTSTART:20171105T020000
TZOFFSETFROM:-0500
TZOFFSETTO:-0600
RDATE:20181104T020000
RDATE:20191103T020000
END:STANDARD
BEGIN:DAYLIGHT
TZNAME:CDT
DTSTART:20180311T020000
TZOFFSETFROM:-0600
TZOFFSETTO:-0500
RDATE:20190310T020000
RDATE:20200308T020000
END:DAYLIGHT
END:VTIMEZONE
BEGIN:VEVENT
UID:3f95dee2-1ef4-43b5-95a4-061f7b05f9f1
DTSTAMP:20260425T151338Z
DESCRIPTION:Bird seed sale orders are due today.
DTSTART;TZID=America/Chicago:20181002T000000
DTEND;TZID=America/Chicago:20181002T235900
LOCATION:
SUMMARY:Bird Seed Sale Orders Due
END:VEVENT
END:VCALENDAR
