BEGIN:VCALENDAR
VERSION:2.0
PRODID:-//audubon-omaha.org//NONSGML kigkonsult.se iCalcreator 2.30.10//
CALSCALE:GREGORIAN
METHOD:PUBLISH
UID:dcebe8a6-31c9-4e56-b7d7-e8e1d2b358b4
X-WR-CALDESC:Please check back for pick-up times and locations.
X-WR-RELCALID:d4f9957bb3e0899fa23388e015429842
X-WR-TIMEZONE:America/Chicago
BEGIN:VTIMEZONE
TZID:America/Chicago
BEGIN:STANDARD
TZNAME:CST
DTSTART:20171105T020000
TZOFFSETFROM:-0500
TZOFFSETTO:-0600
RDATE:20181104T020000
RDATE:20191103T020000
END:STANDARD
BEGIN:DAYLIGHT
TZNAME:CDT
DTSTART:20180311T020000
TZOFFSETFROM:-0600
TZOFFSETTO:-0500
RDATE:20190310T020000
RDATE:20200308T020000
END:DAYLIGHT
END:VTIMEZONE
BEGIN:VEVENT
UID:4f6e380c-3c90-4c05-ac15-de0fbd3cd805
DTSTAMP:20260425T151753Z
DESCRIPTION:Please check back for pick-up times and locations.
DTSTART;TZID=America/Chicago:20181014T000000
DTEND;TZID=America/Chicago:20181015T235900
LOCATION:
SUMMARY:Bird Seed Sale Pick-up
END:VEVENT
END:VCALENDAR
