BEGIN:VCALENDAR
VERSION:2.0
PRODID:-//audubon-omaha.org//NONSGML kigkonsult.se iCalcreator 2.30.10//
CALSCALE:GREGORIAN
METHOD:PUBLISH
UID:88d44731-75c1-4e25-8f02-c5ad55f24a52
X-WR-CALDESC:
X-WR-RELCALID:b7bf18669fe3190a26ced023b6996f91
X-WR-TIMEZONE:America/Chicago
BEGIN:VTIMEZONE
TZID:America/Chicago
BEGIN:STANDARD
TZNAME:CST
DTSTART:20171105T020000
TZOFFSETFROM:-0500
TZOFFSETTO:-0600
RDATE:20181104T020000
RDATE:20191103T020000
END:STANDARD
BEGIN:DAYLIGHT
TZNAME:CDT
DTSTART:20180311T020000
TZOFFSETFROM:-0600
TZOFFSETTO:-0500
RDATE:20190310T020000
RDATE:20200308T020000
END:DAYLIGHT
END:VTIMEZONE
BEGIN:VEVENT
UID:7ec7113a-225a-45f6-961f-667451170337
DTSTAMP:20260425T150816Z
DESCRIPTION:
DTSTART;TZID=America/Chicago:20181021T143000
DTEND;TZID=America/Chicago:20181021T160000
LOCATION:To be determined
SUMMARY:Youth and Family Birding Field Trip
END:VEVENT
END:VCALENDAR
