BEGIN:VCALENDAR
VERSION:2.0
PRODID:-//audubon-omaha.org//NONSGML kigkonsult.se iCalcreator 2.30.10//
CALSCALE:GREGORIAN
METHOD:PUBLISH
UID:dc704b18-bfa4-4fb3-a9d3-cb56c7eae447
X-WR-CALDESC:
X-WR-RELCALID:37c6da76f2cfc717c04787efbbad808a
X-WR-TIMEZONE:America/Chicago
BEGIN:VTIMEZONE
TZID:America/Chicago
BEGIN:STANDARD
TZNAME:CST
DTSTART:20181104T020000
TZOFFSETFROM:-0500
TZOFFSETTO:-0600
RDATE:20191103T020000
END:STANDARD
BEGIN:DAYLIGHT
TZNAME:CDT
DTSTART:20180311T020000
TZOFFSETFROM:-0600
TZOFFSETTO:-0500
RDATE:20190310T020000
RDATE:20200308T020000
END:DAYLIGHT
END:VTIMEZONE
BEGIN:VEVENT
UID:4603341b-0df5-4775-936a-691c9df332d1
DTSTAMP:20260425T132734Z
DESCRIPTION:
DTSTART;TZID=America/Chicago:20181106T000000
DTEND;TZID=America/Chicago:20181106T235900
LOCATION:
SUMMARY:Election Day - When Voting\, Please Remember the Birds
END:VEVENT
END:VCALENDAR
