BEGIN:VCALENDAR
VERSION:2.0
PRODID:-//audubon-omaha.org//NONSGML kigkonsult.se iCalcreator 2.30.10//
CALSCALE:GREGORIAN
METHOD:PUBLISH
UID:a36765ba-d7bc-4687-a3b2-46ed0a921073
X-WR-CALDESC:Cancelled due to the cold
X-WR-RELCALID:9009840053c5790de4735000f1b37118
X-WR-TIMEZONE:America/Chicago
BEGIN:VTIMEZONE
TZID:America/Chicago
BEGIN:STANDARD
TZNAME:CST
DTSTART:20181104T020000
TZOFFSETFROM:-0500
TZOFFSETTO:-0600
RDATE:20191103T020000
END:STANDARD
BEGIN:DAYLIGHT
TZNAME:CDT
DTSTART:20180311T020000
TZOFFSETFROM:-0600
TZOFFSETTO:-0500
RDATE:20190310T020000
RDATE:20200308T020000
END:DAYLIGHT
END:VTIMEZONE
BEGIN:VEVENT
UID:e7c06d83-035d-4106-86b0-61ec42360d89
DTSTAMP:20260425T133316Z
DESCRIPTION:Cancelled due to the cold
DTSTART;TZID=America/Chicago:20181117T000000
DTEND;TZID=America/Chicago:20181117T235900
LOCATION:
SUMMARY:All Day Field Trip - Cancelled Due to the Cold
END:VEVENT
END:VCALENDAR
