BEGIN:VCALENDAR
VERSION:2.0
PRODID:-//audubon-omaha.org//NONSGML kigkonsult.se iCalcreator 2.30.10//
CALSCALE:GREGORIAN
METHOD:PUBLISH
UID:6d55f396-e2a6-4abb-93a9-b80fd1e72673
X-WR-CALDESC:
X-WR-RELCALID:7e9d16b932121987ff438ef1597f2bbb
X-WR-TIMEZONE:America/Chicago
BEGIN:VTIMEZONE
TZID:America/Chicago
BEGIN:STANDARD
TZNAME:CST
DTSTART:20181104T020000
TZOFFSETFROM:-0500
TZOFFSETTO:-0600
RDATE:20191103T020000
END:STANDARD
BEGIN:DAYLIGHT
TZNAME:CDT
DTSTART:20180311T020000
TZOFFSETFROM:-0600
TZOFFSETTO:-0500
RDATE:20190310T020000
RDATE:20200308T020000
END:DAYLIGHT
END:VTIMEZONE
BEGIN:VEVENT
UID:9b2989a9-6f2b-48e9-b88e-8ad6fd212137
DTSTAMP:20260425T133042Z
DESCRIPTION:
DTSTART;TZID=America/Chicago:20181117T140000
DTEND;TZID=America/Chicago:20181117T153000
LOCATION:To be determined
SUMMARY:Youth and Family Birding Field trip
END:VEVENT
END:VCALENDAR
