BEGIN:VCALENDAR
VERSION:2.0
PRODID:-//audubon-omaha.org//NONSGML kigkonsult.se iCalcreator 2.30.10//
CALSCALE:GREGORIAN
METHOD:PUBLISH
UID:89b8d0ca-a132-42a5-b739-7320ab456889
X-WR-CALDESC:
X-WR-RELCALID:6f2670a6cd6a5cd8a04b27b9d0f679dd
X-WR-TIMEZONE:America/Chicago
BEGIN:VTIMEZONE
TZID:America/Chicago
BEGIN:STANDARD
TZNAME:CST
DTSTART:20181104T020000
TZOFFSETFROM:-0500
TZOFFSETTO:-0600
RDATE:20191103T020000
END:STANDARD
BEGIN:DAYLIGHT
TZNAME:CDT
DTSTART:20180311T020000
TZOFFSETFROM:-0600
TZOFFSETTO:-0500
RDATE:20190310T020000
RDATE:20200308T020000
END:DAYLIGHT
END:VTIMEZONE
BEGIN:VEVENT
UID:71324f35-23ba-4696-a8bb-6c1792d9013d
DTSTAMP:20260425T112949Z
DESCRIPTION:
DTSTART;TZID=America/Chicago:20181204T190000
DTEND;TZID=America/Chicago:20181204T210000
LOCATION:Email Meeting
SUMMARY:Board Meeting
END:VEVENT
END:VCALENDAR
