BEGIN:VCALENDAR
VERSION:2.0
PRODID:-//audubon-omaha.org//NONSGML kigkonsult.se iCalcreator 2.30.10//
CALSCALE:GREGORIAN
METHOD:PUBLISH
UID:2b0a28df-e46e-4da1-bb62-dd3948e3a519
X-WR-CALDESC:True to our tradition\, we will not have a program in December
 . Enjoy the Holidays and we look forward to seeing you in January.
X-WR-RELCALID:735fde70a4c049a2013652c925ac6087
X-WR-TIMEZONE:America/Chicago
BEGIN:VTIMEZONE
TZID:America/Chicago
BEGIN:STANDARD
TZNAME:CST
DTSTART:20181104T020000
TZOFFSETFROM:-0500
TZOFFSETTO:-0600
RDATE:20191103T020000
END:STANDARD
BEGIN:DAYLIGHT
TZNAME:CDT
DTSTART:20180311T020000
TZOFFSETFROM:-0600
TZOFFSETTO:-0500
RDATE:20190310T020000
RDATE:20200308T020000
END:DAYLIGHT
END:VTIMEZONE
BEGIN:VEVENT
UID:68d39c2f-0fc5-4d00-b7d2-1707a4fe75cb
DTSTAMP:20260425T112028Z
DESCRIPTION:True to our tradition\, we will not have a program in December.
  Enjoy the Holidays and we look forward to seeing you in January.
DTSTART;TZID=America/Chicago:20181213T000000
DTEND;TZID=America/Chicago:20181213T235900
LOCATION:
SUMMARY:Reminder: No Program in December
END:VEVENT
END:VCALENDAR
