BEGIN:VCALENDAR
VERSION:2.0
PRODID:-//audubon-omaha.org//NONSGML kigkonsult.se iCalcreator 2.30.10//
CALSCALE:GREGORIAN
METHOD:PUBLISH
UID:69e18d10-77e2-41ce-8123-1ba7c8a609a1
X-WR-CALDESC:The DeSoto Christmas Bird Count is scheduled for Saturday\, De
 cember 22nd. If you wish to participate contact Jerry Toll at geritol48@co
 x.net or 402-312-1635.
X-WR-RELCALID:bafad1a12a318801d4fad17447fe3624
X-WR-TIMEZONE:America/Chicago
BEGIN:VTIMEZONE
TZID:America/Chicago
BEGIN:STANDARD
TZNAME:CST
DTSTART:20181104T020000
TZOFFSETFROM:-0500
TZOFFSETTO:-0600
RDATE:20191103T020000
END:STANDARD
BEGIN:DAYLIGHT
TZNAME:CDT
DTSTART:20180311T020000
TZOFFSETFROM:-0600
TZOFFSETTO:-0500
RDATE:20190310T020000
RDATE:20200308T020000
END:DAYLIGHT
END:VTIMEZONE
BEGIN:VEVENT
UID:b361d245-94d1-489c-8ff2-72fa88e91291
DTSTAMP:20260425T113428Z
DESCRIPTION:The DeSoto Christmas Bird Count is scheduled for Saturday\, Dec
 ember 22nd. If you wish to participate contact Jerry Toll at geritol48@cox
 .net or 402-312-1635.
DTSTART;TZID=America/Chicago:20181222T000000
DTEND;TZID=America/Chicago:20181222T235900
LOCATION:
SUMMARY:DeSoto Christmas Bird Count
END:VEVENT
END:VCALENDAR
