BEGIN:VCALENDAR
VERSION:2.0
PRODID:-//audubon-omaha.org//NONSGML kigkonsult.se iCalcreator 2.30.10//
CALSCALE:GREGORIAN
METHOD:PUBLISH
UID:f7e724cb-c218-49e1-add1-e2ad096dad94
X-WR-CALDESC:
X-WR-RELCALID:aa6a8e251457000061251e6d57ae9e56
X-WR-TIMEZONE:America/Chicago
BEGIN:VTIMEZONE
TZID:America/Chicago
BEGIN:STANDARD
TZNAME:CST
DTSTART:20181104T020000
TZOFFSETFROM:-0500
TZOFFSETTO:-0600
RDATE:20191103T020000
RDATE:20201101T020000
END:STANDARD
BEGIN:DAYLIGHT
TZNAME:CDT
DTSTART:20190310T020000
TZOFFSETFROM:-0600
TZOFFSETTO:-0500
RDATE:20200308T020000
END:DAYLIGHT
END:VTIMEZONE
BEGIN:VEVENT
UID:4372b764-f0f1-4a29-895b-83f0bed4b1a7
DTSTAMP:20260425T025720Z
DESCRIPTION:
DTSTART;TZID=America/Chicago:20190507T190000
DTEND;TZID=America/Chicago:20190507T210000
LOCATION:Center Street Mall\, 1941 S. 42 St
SUMMARY:Board Meeting
END:VEVENT
END:VCALENDAR
