BEGIN:VCALENDAR
VERSION:2.0
PRODID:-//audubon-omaha.org//NONSGML kigkonsult.se iCalcreator 2.30.10//
CALSCALE:GREGORIAN
METHOD:PUBLISH
UID:912010bc-1b18-4a69-bcaa-7987cb11292d
X-WR-CALDESC:The Annual Sarpy County Spring Bird Count will be held on Satu
 rday\, May 11th. The county is divided into four (4) sections from Fontene
 lle Forest on the Missouri River in the east to the Platte River in the we
 st in the Linoma Beach area. In between are two sections including Schramm
  Park SRA\, Walnut Creek Lake Recreation Area\, and Prairie Queen Recreati
 on Area.\n\nCounters will be needed and any help is appreciated. If you ar
 e interested in helping out all day or part of the day\, please contact Cl
 em Klaphake.
X-WR-RELCALID:5d260ee7ef267c09e60bd2c335313497
X-WR-TIMEZONE:America/Chicago
BEGIN:VTIMEZONE
TZID:America/Chicago
BEGIN:STANDARD
TZNAME:CST
DTSTART:20181104T020000
TZOFFSETFROM:-0500
TZOFFSETTO:-0600
RDATE:20191103T020000
RDATE:20201101T020000
END:STANDARD
BEGIN:DAYLIGHT
TZNAME:CDT
DTSTART:20190310T020000
TZOFFSETFROM:-0600
TZOFFSETTO:-0500
RDATE:20200308T020000
END:DAYLIGHT
END:VTIMEZONE
BEGIN:VEVENT
UID:6e8e0976-03f9-48d4-81f3-63c4b41721e8
DTSTAMP:20260425T025451Z
DESCRIPTION:The Annual Sarpy County Spring Bird Count will be held on Satur
 day\, May 11th. The county is divided into four (4) sections from Fontenel
 le Forest on the Missouri River in the east to the Platte River in the wes
 t in the Linoma Beach area. In between are two sections including Schramm 
 Park SRA\, Walnut Creek Lake Recreation Area\, and Prairie Queen Recreatio
 n Area.\n\nCounters will be needed and any help is appreciated. If you are
  interested in helping out all day or part of the day\, please contact Cle
 m Klaphake.
DTSTART;TZID=America/Chicago:20190511T000000
DTEND;TZID=America/Chicago:20190511T235900
LOCATION:
SUMMARY:The Annual Sarpy County Spring Bird Count
END:VEVENT
END:VCALENDAR
