BEGIN:VCALENDAR
VERSION:2.0
PRODID:-//audubon-omaha.org//NONSGML kigkonsult.se iCalcreator 2.30.10//
CALSCALE:GREGORIAN
METHOD:PUBLISH
UID:0d63942c-2189-4500-842c-66b127362330
X-WR-CALDESC:Photo Credit: Alex Wiles\nGuest Speaker: Laura Stastny\, Execu
 tive Director of Nebraska Wildlife Rehab\, Inc.\n\nDid you know that this 
 past summer\, Audubon Society of Omaha helped fund the relocation of 233 p
 rairie dogs? After their long-time prairie dog town site was sold and quic
 kly turned into a soybean field\, local conservation groups scrambled to s
 ave the lives of the remaining prairie dogs and ultimately relocate them t
 o the Hutton Niobrara Ranch Wildlife Sanctuary. Hear about this amazing st
 ory from Laura Stastny\, Executive Director of Nebraska Wildlife Rehab\, I
 nc. and an invaluable leader of the prairie dog rescue team!\n\nDetails:\n
 Cash Bar 6 p.m. followed by dinner at 7 p.m. Casual attire. Registration d
 eadline is Friday\, May 10.\nTickets are $22 for Pasta Primavera\, $25 for
  Chicken Piccata\, and $30 for Top Sirloin. Patron tickets are available f
 or $50 per person. Tax-deductible amount per patron ticket is $50 minus co
 st of the dinner. Conservation and education projects that your donations 
 helped support this past year included Audubon Society of Omaha’s annual S
 tudent Art Contest and Show and banding saw-whet owls.
X-WR-RELCALID:f3de09df8ab3aaa92df29f20433b68e0
X-WR-TIMEZONE:America/Chicago
BEGIN:VTIMEZONE
TZID:America/Chicago
BEGIN:STANDARD
TZNAME:CST
DTSTART:20181104T020000
TZOFFSETFROM:-0500
TZOFFSETTO:-0600
RDATE:20191103T020000
RDATE:20201101T020000
END:STANDARD
BEGIN:DAYLIGHT
TZNAME:CDT
DTSTART:20190310T020000
TZOFFSETFROM:-0600
TZOFFSETTO:-0500
RDATE:20200308T020000
END:DAYLIGHT
END:VTIMEZONE
BEGIN:VEVENT
UID:c2088edc-d6e2-4736-86fd-169e082b363a
DTSTAMP:20260425T025200Z
DESCRIPTION:Photo Credit: Alex Wiles\nGuest Speaker: Laura Stastny\, Execut
 ive Director of Nebraska Wildlife Rehab\, Inc.\n\nDid you know that this p
 ast summer\, Audubon Society of Omaha helped fund the relocation of 233 pr
 airie dogs? After their long-time prairie dog town site was sold and quick
 ly turned into a soybean field\, local conservation groups scrambled to sa
 ve the lives of the remaining prairie dogs and ultimately relocate them to
  the Hutton Niobrara Ranch Wildlife Sanctuary. Hear about this amazing sto
 ry from Laura Stastny\, Executive Director of Nebraska Wildlife Rehab\, In
 c. and an invaluable leader of the prairie dog rescue team!\n\nDetails:\nC
 ash Bar 6 p.m. followed by dinner at 7 p.m. Casual attire. Registration de
 adline is Friday\, May 10.\nTickets are $22 for Pasta Primavera\, $25 for 
 Chicken Piccata\, and $30 for Top Sirloin. Patron tickets are available fo
 r $50 per person. Tax-deductible amount per patron ticket is $50 minus cos
 t of the dinner. Conservation and education projects that your donations h
 elped support this past year included Audubon Society of Omaha’s annual St
 udent Art Contest and Show and banding saw-whet owls.
DTSTART;TZID=America/Chicago:20190516T180000
DTEND;TZID=America/Chicago:20190516T210000
LOCATION:Anthony’s Steakhouse • 7220 F Street • Omaha\, NE 68127
SUMMARY:Annual Banquet
END:VEVENT
END:VCALENDAR
