BEGIN:VCALENDAR
VERSION:2.0
PRODID:-//audubon-omaha.org//NONSGML kigkonsult.se iCalcreator 2.30.10//
CALSCALE:GREGORIAN
METHOD:PUBLISH
UID:50ce3742-f108-4315-a336-c04316ed7a42
X-WR-CALDESC:
X-WR-RELCALID:8207326c97b1dfa7ca27b0021ac7829d
X-WR-TIMEZONE:America/Chicago
BEGIN:VTIMEZONE
TZID:America/Chicago
BEGIN:STANDARD
TZNAME:CST
DTSTART:20181104T020000
TZOFFSETFROM:-0500
TZOFFSETTO:-0600
RDATE:20191103T020000
RDATE:20201101T020000
END:STANDARD
BEGIN:DAYLIGHT
TZNAME:CDT
DTSTART:20190310T020000
TZOFFSETFROM:-0600
TZOFFSETTO:-0500
RDATE:20200308T020000
END:DAYLIGHT
END:VTIMEZONE
BEGIN:VEVENT
UID:b753f022-a526-4736-850e-ca0b332fd598
DTSTAMP:20260425T011406Z
DESCRIPTION:
DTSTART;TZID=America/Chicago:20190604T190000
DTEND;TZID=America/Chicago:20190604T210000
LOCATION:Center Street Mall\, 1941 S. 42 St
SUMMARY:Board Meeting
END:VEVENT
END:VCALENDAR
