BEGIN:VCALENDAR
VERSION:2.0
PRODID:-//audubon-omaha.org//NONSGML kigkonsult.se iCalcreator 2.30.10//
CALSCALE:GREGORIAN
METHOD:PUBLISH
UID:a0dfba19-fd7a-46fe-91e0-88ea2a7dc210
X-WR-CALDESC:For more information\, please click on the 'Bird Seed Sale Inf
 ormation' link below.
X-WR-RELCALID:025e7f62507136cbac4307857eda118d
X-WR-TIMEZONE:America/Chicago
BEGIN:VTIMEZONE
TZID:America/Chicago
BEGIN:STANDARD
TZNAME:CST
DTSTART:20181104T020000
TZOFFSETFROM:-0500
TZOFFSETTO:-0600
RDATE:20191103T020000
RDATE:20201101T020000
END:STANDARD
BEGIN:DAYLIGHT
TZNAME:CDT
DTSTART:20190310T020000
TZOFFSETFROM:-0600
TZOFFSETTO:-0500
RDATE:20200308T020000
RDATE:20210314T020000
END:DAYLIGHT
END:VTIMEZONE
BEGIN:VEVENT
UID:94d43447-7152-4130-821b-c110c474ec73
DTSTAMP:20260424T182936Z
DESCRIPTION:For more information\, please click on the 'Bird Seed Sale Info
 rmation' link below.
DTSTART;TZID=America/Chicago:20191009T000000
DTEND;TZID=America/Chicago:20191009T235900
LOCATION:
SUMMARY:Bird Seed Orders Due
END:VEVENT
END:VCALENDAR
