BEGIN:VCALENDAR
VERSION:2.0
PRODID:-//audubon-omaha.org//NONSGML kigkonsult.se iCalcreator 2.30.10//
CALSCALE:GREGORIAN
METHOD:PUBLISH
UID:d57bfcd3-3721-4760-925a-1d11364f4d30
X-WR-CALDESC:Please check back for pick-up times and locations.
X-WR-RELCALID:e3d62c9cb1df9414750d91581767735d
X-WR-TIMEZONE:America/Chicago
BEGIN:VTIMEZONE
TZID:America/Chicago
BEGIN:STANDARD
TZNAME:CST
DTSTART:20181104T020000
TZOFFSETFROM:-0500
TZOFFSETTO:-0600
RDATE:20191103T020000
RDATE:20201101T020000
END:STANDARD
BEGIN:DAYLIGHT
TZNAME:CDT
DTSTART:20190310T020000
TZOFFSETFROM:-0600
TZOFFSETTO:-0500
RDATE:20200308T020000
RDATE:20210314T020000
END:DAYLIGHT
END:VTIMEZONE
BEGIN:VEVENT
UID:4f79abb4-4261-4ee4-ac2e-fa5e653f75fc
DTSTAMP:20260424T182602Z
DESCRIPTION:Please check back for pick-up times and locations.
DTSTART;TZID=America/Chicago:20191019T000000
DTEND;TZID=America/Chicago:20191019T235900
LOCATION:
SUMMARY:Bird Seed Sale Pick-up
END:VEVENT
END:VCALENDAR
