BEGIN:VCALENDAR
VERSION:2.0
PRODID:-//audubon-omaha.org//NONSGML kigkonsult.se iCalcreator 2.30.10//
CALSCALE:GREGORIAN
METHOD:PUBLISH
UID:b1c48631-2bb2-4a4a-af84-30ae7696cd3d
X-WR-CALDESC:Please check back for pick-up times and locations.
X-WR-RELCALID:105a1bcfdb83205300a28b183ad2a791
X-WR-TIMEZONE:America/Chicago
BEGIN:VTIMEZONE
TZID:America/Chicago
BEGIN:STANDARD
TZNAME:CST
DTSTART:20181104T020000
TZOFFSETFROM:-0500
TZOFFSETTO:-0600
RDATE:20191103T020000
RDATE:20201101T020000
END:STANDARD
BEGIN:DAYLIGHT
TZNAME:CDT
DTSTART:20190310T020000
TZOFFSETFROM:-0600
TZOFFSETTO:-0500
RDATE:20200308T020000
RDATE:20210314T020000
END:DAYLIGHT
END:VTIMEZONE
BEGIN:VEVENT
UID:b40488ea-9a68-4841-a2c6-b170185ca8a0
DTSTAMP:20260424T183254Z
DESCRIPTION:Please check back for pick-up times and locations.
DTSTART;TZID=America/Chicago:20191020T000000
DTEND;TZID=America/Chicago:20191020T235900
LOCATION:
SUMMARY:Bird Seed Sale Pick-up
END:VEVENT
END:VCALENDAR
