BEGIN:VCALENDAR
VERSION:2.0
PRODID:-//audubon-omaha.org//NONSGML kigkonsult.se iCalcreator 2.30.10//
CALSCALE:GREGORIAN
METHOD:PUBLISH
UID:6d270f40-bc9c-4035-ace7-0300fbbd7ead
X-WR-CALDESC:Calling all birders who delight in the unexpected! Bird two ar
 ea cemeteries with Tisha Johnson. Over the past two years\, birders have w
 itnessed an irruption of 62 Crossbills at Forest Lawn. Join us at Holy Sep
 ulchre\, 4912 Leavenworth\; following that\, we will take a 15-minute driv
 e north to Forest Lawn.
X-WR-RELCALID:b809bde6f91e61ac50e33166b30303d6
X-WR-TIMEZONE:America/Chicago
BEGIN:VTIMEZONE
TZID:America/Chicago
BEGIN:STANDARD
TZNAME:CST
DTSTART:20181104T020000
TZOFFSETFROM:-0500
TZOFFSETTO:-0600
RDATE:20191103T020000
RDATE:20201101T020000
END:STANDARD
BEGIN:DAYLIGHT
TZNAME:CDT
DTSTART:20190310T020000
TZOFFSETFROM:-0600
TZOFFSETTO:-0500
RDATE:20200308T020000
RDATE:20210314T020000
END:DAYLIGHT
END:VTIMEZONE
BEGIN:VEVENT
UID:f5b2c626-cdce-4d51-bb05-49e6fa2939e6
DTSTAMP:20260424T182845Z
DESCRIPTION:Calling all birders who delight in the unexpected! Bird two are
 a cemeteries with Tisha Johnson. Over the past two years\, birders have wi
 tnessed an irruption of 62 Crossbills at Forest Lawn. Join us at Holy Sepu
 lchre\, 4912 Leavenworth\; following that\, we will take a 15-minute drive
  north to Forest Lawn.
DTSTART;TZID=America/Chicago:20191026T143000
DTEND;TZID=America/Chicago:20191026T163000
LOCATION:Holy Sepulchre and Forest Lawn Cemeteries
SUMMARY:Field Trip: Spooky!
END:VEVENT
END:VCALENDAR
