BEGIN:VCALENDAR
VERSION:2.0
PRODID:-//audubon-omaha.org//NONSGML kigkonsult.se iCalcreator 2.30.10//
CALSCALE:GREGORIAN
METHOD:PUBLISH
UID:ee7fa64e-fa44-41ad-b4b2-2f5a73b6af78
X-WR-CALDESC:Be sure to catch Kristal Stoner’s review of the recent update 
 to the National Audubon Society’s 2014 Climate Change Report at ASO’s Nove
 mber Member Meeting.  Members and public (free).\n\nStoner\, who serves as
  Executive Director for Audubon Nebraska\, will describe how the updated r
 eport sheds more light on the impact of climate change on birds and the ha
 bitats they require to maintain healthy populations. The report’s authors 
 designed the update to offer a wide range of predictive data that clearly 
 explain the potential effects of climate change on specific bird species a
 t the county\, state and national levels.
X-WR-RELCALID:fc23ca23618784fe332f53459ed49caf
X-WR-TIMEZONE:America/Chicago
BEGIN:VTIMEZONE
TZID:America/Chicago
BEGIN:STANDARD
TZNAME:CST
DTSTART:20191103T020000
TZOFFSETFROM:-0500
TZOFFSETTO:-0600
RDATE:20201101T020000
END:STANDARD
BEGIN:DAYLIGHT
TZNAME:CDT
DTSTART:20190310T020000
TZOFFSETFROM:-0600
TZOFFSETTO:-0500
RDATE:20200308T020000
RDATE:20210314T020000
END:DAYLIGHT
END:VTIMEZONE
BEGIN:VEVENT
UID:9c22c310-85c9-4cb2-9f10-eccbcb4e6f22
DTSTAMP:20260424T165057Z
DESCRIPTION:Be sure to catch Kristal Stoner’s review of the recent update t
 o the National Audubon Society’s 2014 Climate Change Report at ASO’s Novem
 ber Member Meeting.  Members and public (free).\n\nStoner\, who serves as 
 Executive Director for Audubon Nebraska\, will describe how the updated re
 port sheds more light on the impact of climate change on birds and the hab
 itats they require to maintain healthy populations. The report’s authors d
 esigned the update to offer a wide range of predictive data that clearly e
 xplain the potential effects of climate change on specific bird species at
  the county\, state and national levels.
DTSTART;TZID=America/Chicago:20191114T190000
DTEND;TZID=America/Chicago:20191114T210000
LOCATION:Barbara Weitz Community Center\, UNO Dodge Campus
SUMMARY:Climate Change Report\, by Kristal Stoner\, NAS
END:VEVENT
END:VCALENDAR
