BEGIN:VCALENDAR
VERSION:2.0
PRODID:-//audubon-omaha.org//NONSGML kigkonsult.se iCalcreator 2.30.10//
CALSCALE:GREGORIAN
METHOD:PUBLISH
UID:9776e03f-1991-459f-893b-3fef9f9eb941
X-WR-CALDESC:
X-WR-RELCALID:a4ac84612e43597dd9300ad8e0b1e3bc
X-WR-TIMEZONE:America/Chicago
BEGIN:VTIMEZONE
TZID:America/Chicago
BEGIN:STANDARD
TZNAME:CST
DTSTART:20191103T020000
TZOFFSETFROM:-0500
TZOFFSETTO:-0600
RDATE:20201101T020000
END:STANDARD
BEGIN:DAYLIGHT
TZNAME:CDT
DTSTART:20190310T020000
TZOFFSETFROM:-0600
TZOFFSETTO:-0500
RDATE:20200308T020000
RDATE:20210314T020000
END:DAYLIGHT
END:VTIMEZONE
BEGIN:VEVENT
UID:8a1a51ac-9bab-4c95-88cc-b0927b31776b
DTSTAMP:20260424T131243Z
DESCRIPTION:
DTSTART;TZID=America/Chicago:20200106T000000
DTEND;TZID=America/Chicago:20200106T235900
LOCATION:
SUMMARY:Call for Entries 2020 Student Art Contest
END:VEVENT
END:VCALENDAR
