BEGIN:VCALENDAR
VERSION:2.0
PRODID:-//audubon-omaha.org//NONSGML kigkonsult.se iCalcreator 2.30.10//
CALSCALE:GREGORIAN
METHOD:PUBLISH
UID:c49d8158-df0c-4662-be85-441be7525395
X-WR-CALDESC:Speaker: Raptor expert Bethany Thornton\, Lauritzen Gardens\nT
 opic: Hawk Watching at Hitchcock\nWhen: 7 p.m. - 9 p.m.\nWhere: Weitz Comm
 unity Engagement Center on the UNO Campus. Park: FREE in Lot E\, north of 
 the building\; tell the attendant\, “Audubon”\nWho: Members and the public
  (free)\n
X-WR-RELCALID:c4d28c44569ced0004466262b83ea5f8
X-WR-TIMEZONE:America/Chicago
BEGIN:VTIMEZONE
TZID:America/Chicago
BEGIN:STANDARD
TZNAME:CST
DTSTART:20191103T020000
TZOFFSETFROM:-0500
TZOFFSETTO:-0600
RDATE:20201101T020000
END:STANDARD
BEGIN:DAYLIGHT
TZNAME:CDT
DTSTART:20190310T020000
TZOFFSETFROM:-0600
TZOFFSETTO:-0500
RDATE:20200308T020000
RDATE:20210314T020000
END:DAYLIGHT
END:VTIMEZONE
BEGIN:VEVENT
UID:739869bb-915f-4085-b59b-5348b6b3e80a
DTSTAMP:20260424T132117Z
DESCRIPTION:Speaker: Raptor expert Bethany Thornton\, Lauritzen Gardens\nTo
 pic: Hawk Watching at Hitchcock\nWhen: 7 p.m. - 9 p.m.\nWhere: Weitz Commu
 nity Engagement Center on the UNO Campus. Park: FREE in Lot E\, north of t
 he building\; tell the attendant\, “Audubon”\nWho: Members and the public 
 (free)\n
DTSTART;TZID=America/Chicago:20200109T190000
DTEND;TZID=America/Chicago:20200109T210000
LOCATION:Barbara Weitz Community Center\, UNO Dodge Campus
SUMMARY:ASO Member Meeting
END:VEVENT
END:VCALENDAR
