BEGIN:VCALENDAR
VERSION:2.0
PRODID:-//audubon-omaha.org//NONSGML kigkonsult.se iCalcreator 2.30.10//
CALSCALE:GREGORIAN
METHOD:PUBLISH
UID:274172e6-dfd4-4584-8a24-cc472b30c905
X-WR-CALDESC:What: See seasonal visitors on a three-site trek to feeders in
  Sarpy and Cass Counties\, led by Clem Klaphake\nWhen: 8 a.m. to noon\nWhe
 re: Site 1: Fontenelle Forest\; Site 2: Bob and Kathleen Rose’s home on Be
 llevue Boulevard\; Site 3: Kathy and Duane Schwery’s home south of the Pla
 tte River in Cass County\nWho: Birders who enjoy good company\, good cheer
  (rumor has it there may be hot drinks and cookies)\, and variety\n\n
X-WR-RELCALID:e8fc778170b65a7b69e0759489235349
X-WR-TIMEZONE:America/Chicago
BEGIN:VTIMEZONE
TZID:America/Chicago
BEGIN:STANDARD
TZNAME:CST
DTSTART:20191103T020000
TZOFFSETFROM:-0500
TZOFFSETTO:-0600
RDATE:20201101T020000
END:STANDARD
BEGIN:DAYLIGHT
TZNAME:CDT
DTSTART:20190310T020000
TZOFFSETFROM:-0600
TZOFFSETTO:-0500
RDATE:20200308T020000
RDATE:20210314T020000
END:DAYLIGHT
END:VTIMEZONE
BEGIN:VEVENT
UID:0be63f37-ac95-4917-b484-0b548814f807
DTSTAMP:20260424T132813Z
DESCRIPTION:What: See seasonal visitors on a three-site trek to feeders in 
 Sarpy and Cass Counties\, led by Clem Klaphake\nWhen: 8 a.m. to noon\nWher
 e: Site 1: Fontenelle Forest\; Site 2: Bob and Kathleen Rose’s home on Bel
 levue Boulevard\; Site 3: Kathy and Duane Schwery’s home south of the Plat
 te River in Cass County\nWho: Birders who enjoy good company\, good cheer 
 (rumor has it there may be hot drinks and cookies)\, and variety\n\n
DTSTART;TZID=America/Chicago:20200111T080000
DTEND;TZID=America/Chicago:20200111T120000
LOCATION:Sarpy and Cass Counties
SUMMARY:Field Trip:  Feeder Watch led by Clem Klaphake
END:VEVENT
END:VCALENDAR
