BEGIN:VCALENDAR
VERSION:2.0
PRODID:-//audubon-omaha.org//NONSGML kigkonsult.se iCalcreator 2.30.10//
CALSCALE:GREGORIAN
METHOD:PUBLISH
UID:9191a543-dee4-4f3c-8458-d21b7ce73fc1
X-WR-CALDESC:What: Walk on the wild side at Camp Wakonda with Matt Miller\,
  Fontenelle Forest’s Restoration Biologist\, to explore restoration projec
 ts and see wildlife\nWhen: 10 a.m. \nWhere: Camp Wakonda\, 402 Forest Driv
 e\, Bellevue\nWho: Birders looking for an in-depth experience with a resto
 ration expert\n
X-WR-RELCALID:d9deef023e9bc75bfbe0923ece88a577
X-WR-TIMEZONE:America/Chicago
BEGIN:VTIMEZONE
TZID:America/Chicago
BEGIN:STANDARD
TZNAME:CST
DTSTART:20191103T020000
TZOFFSETFROM:-0500
TZOFFSETTO:-0600
RDATE:20201101T020000
END:STANDARD
BEGIN:DAYLIGHT
TZNAME:CDT
DTSTART:20190310T020000
TZOFFSETFROM:-0600
TZOFFSETTO:-0500
RDATE:20200308T020000
RDATE:20210314T020000
END:DAYLIGHT
END:VTIMEZONE
BEGIN:VEVENT
UID:d5686c77-064c-4610-b045-559b7682105c
DTSTAMP:20260424T112545Z
DESCRIPTION:What: Walk on the wild side at Camp Wakonda with Matt Miller\, 
 Fontenelle Forest’s Restoration Biologist\, to explore restoration project
 s and see wildlife\nWhen: 10 a.m. \nWhere: Camp Wakonda\, 402 Forest Drive
 \, Bellevue\nWho: Birders looking for an in-depth experience with a restor
 ation expert\n
DTSTART;TZID=America/Chicago:20200216T100000
DTEND;TZID=America/Chicago:20200216T140000
LOCATION:Camp Wakonda\, 402 Forest Drive\, Bellevue
SUMMARY:Field Trip: Winter Birding
END:VEVENT
END:VCALENDAR
