BEGIN:VCALENDAR
VERSION:2.0
PRODID:-//audubon-omaha.org//NONSGML kigkonsult.se iCalcreator 2.30.10//
CALSCALE:GREGORIAN
METHOD:PUBLISH
UID:c8145905-fbe0-49ca-9cc7-4a5933cd685a
X-WR-CALDESC:Bring entries to the Audubon Society of Omaha office which wil
 l be open during these times: \n - Friday\, February 21 - 3:00 p.m. to 6:0
 0 p.m.\n - Saturday\, February 22 - 10:00 a.m. to 3:00 p.m.\n\nCenter Mall
  at 42nd & Center Streets\, lower level\, Suite 108
X-WR-RELCALID:3fd2be2c99b057581782757a2dd68246
X-WR-TIMEZONE:America/Chicago
BEGIN:VTIMEZONE
TZID:America/Chicago
BEGIN:STANDARD
TZNAME:CST
DTSTART:20191103T020000
TZOFFSETFROM:-0500
TZOFFSETTO:-0600
RDATE:20201101T020000
END:STANDARD
BEGIN:DAYLIGHT
TZNAME:CDT
DTSTART:20190310T020000
TZOFFSETFROM:-0600
TZOFFSETTO:-0500
RDATE:20200308T020000
RDATE:20210314T020000
END:DAYLIGHT
END:VTIMEZONE
BEGIN:VEVENT
UID:41dd3716-e7c8-4110-97ac-fac1c88810fc
DTSTAMP:20260424T111137Z
DESCRIPTION:Bring entries to the Audubon Society of Omaha office which will
  be open during these times: \n - Friday\, February 21 - 3:00 p.m. to 6:00
  p.m.\n - Saturday\, February 22 - 10:00 a.m. to 3:00 p.m.\n\nCenter Mall 
 at 42nd & Center Streets\, lower level\, Suite 108
DTSTART;TZID=America/Chicago:20200221T000000
DTEND;TZID=America/Chicago:20200221T235900
LOCATION:ASO Office\, Center Mall\, Suite 108
SUMMARY:3pm-6pm Student Art Contest Drop off
END:VEVENT
END:VCALENDAR
