BEGIN:VCALENDAR
VERSION:2.0
PRODID:-//audubon-omaha.org//NONSGML kigkonsult.se iCalcreator 2.30.10//
CALSCALE:GREGORIAN
METHOD:PUBLISH
UID:673945a5-2069-4591-9f3e-2ca5e1473608
X-WR-CALDESC:Bring entries to the Audubon Society of Omaha office which wil
 l be open during these times: \n - Friday\, February 21 - 3:00 p.m. to 6:0
 0 p.m.\n - Saturday\, February 22 - 10:00 a.m. to 3:00 p.m.\n\nCenter Mall
  at 42nd & Center Streets\, lower level\, Suite 108\n
X-WR-RELCALID:fe1b8ce30b4148a5bb87c2ecc1cc517d
X-WR-TIMEZONE:America/Chicago
BEGIN:VTIMEZONE
TZID:America/Chicago
BEGIN:STANDARD
TZNAME:CST
DTSTART:20191103T020000
TZOFFSETFROM:-0500
TZOFFSETTO:-0600
RDATE:20201101T020000
END:STANDARD
BEGIN:DAYLIGHT
TZNAME:CDT
DTSTART:20190310T020000
TZOFFSETFROM:-0600
TZOFFSETTO:-0500
RDATE:20200308T020000
RDATE:20210314T020000
END:DAYLIGHT
END:VTIMEZONE
BEGIN:VEVENT
UID:a4f45f68-93fe-4d60-a9e3-8becaf44efa6
DTSTAMP:20260424T111300Z
DESCRIPTION:Bring entries to the Audubon Society of Omaha office which will
  be open during these times: \n - Friday\, February 21 - 3:00 p.m. to 6:00
  p.m.\n - Saturday\, February 22 - 10:00 a.m. to 3:00 p.m.\n\nCenter Mall 
 at 42nd & Center Streets\, lower level\, Suite 108\n
DTSTART;TZID=America/Chicago:20200222T000000
DTEND;TZID=America/Chicago:20200222T235900
LOCATION:ASO Office\, Center Mall\, Suite 108
SUMMARY:10am-3pm Student Art Contest Drop off
END:VEVENT
END:VCALENDAR
