BEGIN:VCALENDAR
VERSION:2.0
PRODID:-//audubon-omaha.org//NONSGML kigkonsult.se iCalcreator 2.30.10//
CALSCALE:GREGORIAN
METHOD:PUBLISH
UID:8dccef73-d5d7-4a99-9a1d-4a960b7817c8
X-WR-CALDESC:
X-WR-RELCALID:89b2e5396aefb922a32e6261ecc59178
X-WR-TIMEZONE:America/Chicago
BEGIN:VTIMEZONE
TZID:America/Chicago
BEGIN:STANDARD
TZNAME:CST
DTSTART:20191103T020000
TZOFFSETFROM:-0500
TZOFFSETTO:-0600
RDATE:20201101T020000
END:STANDARD
BEGIN:DAYLIGHT
TZNAME:CDT
DTSTART:20190310T020000
TZOFFSETFROM:-0600
TZOFFSETTO:-0500
RDATE:20200308T020000
RDATE:20210314T020000
END:DAYLIGHT
END:VTIMEZONE
BEGIN:VEVENT
UID:0072cbef-78e5-4a42-ba92-6753843567b6
DTSTAMP:20260424T112952Z
DESCRIPTION:
DTSTART;TZID=America/Chicago:20200222T000000
DTEND;TZID=America/Chicago:20200222T235900
LOCATION:
SUMMARY:9am-4pm Bird Seed Pickup
END:VEVENT
END:VCALENDAR
