BEGIN:VCALENDAR
VERSION:2.0
PRODID:-//audubon-omaha.org//NONSGML kigkonsult.se iCalcreator 2.30.10//
CALSCALE:GREGORIAN
METHOD:PUBLISH
UID:94c3b09b-c435-4c46-b163-664a75e105dc
X-WR-CALDESC:Join restoration biologists to create brush piles while explor
 ing the diverse flora and fauna of this ASO property.\n\nMeet at 10 a.m. a
 t Cuming City Cemetery located three miles north of Blair (see map online)
 .\n\nThis field trip is for conservationists who want to learn more about 
 our virgin\, Loess Hills-type prairie while helping maintain it.
X-WR-RELCALID:69d030936324fbae81e04218b92253d1
X-WR-TIMEZONE:America/Chicago
BEGIN:VTIMEZONE
TZID:America/Chicago
BEGIN:STANDARD
TZNAME:CST
DTSTART:20191103T020000
TZOFFSETFROM:-0500
TZOFFSETTO:-0600
RDATE:20201101T020000
END:STANDARD
BEGIN:DAYLIGHT
TZNAME:CDT
DTSTART:20190310T020000
TZOFFSETFROM:-0600
TZOFFSETTO:-0500
RDATE:20200308T020000
RDATE:20210314T020000
END:DAYLIGHT
END:VTIMEZONE
BEGIN:VEVENT
UID:c877348b-b954-45df-b209-94b6da762899
DTSTAMP:20260424T093010Z
DESCRIPTION:Join restoration biologists to create brush piles while explori
 ng the diverse flora and fauna of this ASO property.\n\nMeet at 10 a.m. at
  Cuming City Cemetery located three miles north of Blair (see map online).
 \n\nThis field trip is for conservationists who want to learn more about o
 ur virgin\, Loess Hills-type prairie while helping maintain it.
DTSTART;TZID=America/Chicago:20200307T000000
DTEND;TZID=America/Chicago:20200307T235900
LOCATION:Cuming City Cemetery\, Blair\, Nebraska
SUMMARY:Field Day: Cuming City Cemetery and Prairie Work
END:VEVENT
END:VCALENDAR
