BEGIN:VCALENDAR
VERSION:2.0
PRODID:-//audubon-omaha.org//NONSGML kigkonsult.se iCalcreator 2.30.10//
CALSCALE:GREGORIAN
METHOD:PUBLISH
UID:fee2e45b-e5a0-41b4-8f78-b6e2ccb0fdbe
X-WR-CALDESC:
X-WR-RELCALID:b6176fbc5b980414ac75efe5a3194ed0
X-WR-TIMEZONE:America/Chicago
BEGIN:VTIMEZONE
TZID:America/Chicago
BEGIN:STANDARD
TZNAME:CST
DTSTART:20191103T020000
TZOFFSETFROM:-0500
TZOFFSETTO:-0600
RDATE:20201101T020000
END:STANDARD
BEGIN:DAYLIGHT
TZNAME:CDT
DTSTART:20200308T020000
TZOFFSETFROM:-0600
TZOFFSETTO:-0500
RDATE:20210314T020000
END:DAYLIGHT
END:VTIMEZONE
BEGIN:VEVENT
UID:43d17580-2000-4d4d-b392-dc2658244640
DTSTAMP:20260424T094045Z
DESCRIPTION:
DTSTART;TZID=America/Chicago:20200312T190000
DTEND;TZID=America/Chicago:20200312T210000
LOCATION:
SUMMARY:CANCELED!  Member Meeting - Bird  Photography
END:VEVENT
END:VCALENDAR
