BEGIN:VCALENDAR
VERSION:2.0
PRODID:-//audubon-omaha.org//NONSGML kigkonsult.se iCalcreator 2.30.10//
CALSCALE:GREGORIAN
METHOD:PUBLISH
UID:637e64aa-adae-4b5c-ad81-9e238a122904
X-WR-CALDESC:
X-WR-RELCALID:598b93385326e5252739cdf0634bb795
X-WR-TIMEZONE:America/Chicago
BEGIN:VTIMEZONE
TZID:America/Chicago
BEGIN:STANDARD
TZNAME:CST
DTSTART:20191103T020000
TZOFFSETFROM:-0500
TZOFFSETTO:-0600
RDATE:20201101T020000
END:STANDARD
BEGIN:DAYLIGHT
TZNAME:CDT
DTSTART:20200308T020000
TZOFFSETFROM:-0600
TZOFFSETTO:-0500
RDATE:20210314T020000
END:DAYLIGHT
END:VTIMEZONE
BEGIN:VEVENT
UID:1f825e3c-066b-4fa4-8318-ef19ae7864e6
DTSTAMP:20260424T075547Z
DESCRIPTION:
DTSTART;TZID=America/Chicago:20200409T190000
DTEND;TZID=America/Chicago:20200409T210000
LOCATION:
SUMMARY:CANCELED: Member Meeting - Creating Healthy Habitats for Birds
END:VEVENT
END:VCALENDAR
