BEGIN:VCALENDAR
VERSION:2.0
PRODID:-//audubon-omaha.org//NONSGML kigkonsult.se iCalcreator 2.30.10//
CALSCALE:GREGORIAN
METHOD:PUBLISH
UID:8136a1d7-5bab-4017-8212-1d134d0e8037
X-WR-CALDESC:
X-WR-RELCALID:8b4cc8f73d161d0434084ceca62a3aeb
X-WR-TIMEZONE:America/Chicago
BEGIN:VTIMEZONE
TZID:America/Chicago
BEGIN:STANDARD
TZNAME:CST
DTSTART:20191103T020000
TZOFFSETFROM:-0500
TZOFFSETTO:-0600
RDATE:20201101T020000
END:STANDARD
BEGIN:DAYLIGHT
TZNAME:CDT
DTSTART:20200308T020000
TZOFFSETFROM:-0600
TZOFFSETTO:-0500
RDATE:20210314T020000
END:DAYLIGHT
END:VTIMEZONE
BEGIN:VEVENT
UID:fcfb8eee-2f9d-4a3f-99d7-63cb4376a3ef
DTSTAMP:20260424T075245Z
DESCRIPTION:
DTSTART;TZID=America/Chicago:20200418T000000
DTEND;TZID=America/Chicago:20200418T235900
LOCATION:
SUMMARY:CANCELED:  Student Art Show and Awards Ceremony
END:VEVENT
END:VCALENDAR
