BEGIN:VCALENDAR
VERSION:2.0
PRODID:-//audubon-omaha.org//NONSGML kigkonsult.se iCalcreator 2.30.10//
CALSCALE:GREGORIAN
METHOD:PUBLISH
UID:a7d2076b-a951-43a4-a091-3e52466826c2
X-WR-CALDESC:
X-WR-RELCALID:f846131697a2a1c2c42a838462401810
X-WR-TIMEZONE:America/Chicago
BEGIN:VTIMEZONE
TZID:America/Chicago
BEGIN:STANDARD
TZNAME:CST
DTSTART:20191103T020000
TZOFFSETFROM:-0500
TZOFFSETTO:-0600
RDATE:20201101T020000
END:STANDARD
BEGIN:DAYLIGHT
TZNAME:CDT
DTSTART:20200308T020000
TZOFFSETFROM:-0600
TZOFFSETTO:-0500
RDATE:20210314T020000
END:DAYLIGHT
END:VTIMEZONE
BEGIN:VEVENT
UID:f4a3d5dc-79c9-4871-9b44-a428cdb109bc
DTSTAMP:20260424T074546Z
DESCRIPTION:
DTSTART;TZID=America/Chicago:20200421T190000
DTEND;TZID=America/Chicago:20200421T210000
LOCATION:
SUMMARY:ASO Members Meeting?
END:VEVENT
END:VCALENDAR
